BEGIN:VCALENDAR
VERSION:2.0
PRODID:-//Tukios.com/
BEGIN:VEVENT
UID:ddc3e039-b22a-491c-a3e0-3d03ba36308b@www.higginbothamfuneralhomecrossplains.com
DTSTAMP:20260420T192943Z
DTSTART:20260422T153000Z
DTEND:20260422T163000Z
SUMMARY:Visitation
DESCRIPTION:
URL:https://www.higginbothamfuneralhomecrossplains.com/obituaries/burlie-taylor-sr
LOCATION: 301 North Main Street  Cross Plains TX 76443
GEO:32.1275015;-99.1658211
END:VEVENT
END:VCALENDAR