BEGIN:VCALENDAR
VERSION:2.0
PRODID:-//Tukios.com/
BEGIN:VEVENT
UID:a97a4c81-5110-4925-aef2-ccbb390e29d7@www.higginbothamfuneralhomecrossplains.com
DTSTAMP:20260420T192749Z
DTSTART:20260422T173000Z
DTEND:20260422T183000Z
SUMMARY:Interment
DESCRIPTION:
URL:https://www.higginbothamfuneralhomecrossplains.com/obituaries/burlie-taylor-sr
LOCATION:  Chestnut Street  Cross Plains TX 76443
GEO:32.1247279;-99.1698174
END:VEVENT
END:VCALENDAR