BEGIN:VCALENDAR
VERSION:2.0
PRODID:-//Tukios.com/
BEGIN:VEVENT
UID:217823f5-b7a1-4dd7-a573-ce428e64ed7e@www.higginbothamfuneralhomecrossplains.com
DTSTAMP:20260419T122144Z
DTSTART:20260417T230000Z
DTEND:20260418T010000Z
SUMMARY:Visitation
DESCRIPTION:
URL:https://www.higginbothamfuneralhomecrossplains.com/obituaries/martha-bailey
LOCATION:Higginbotham’s Funeral Home 309 Northeast Fourth Street  Cross 
	Plains TX 76443
GEO:32.1283884;-99.1620122
END:VEVENT
END:VCALENDAR